BEGIN:VCALENDAR
VERSION:2.0
PRODID:-//Aldeia Xamânica Florescer - ECPv6.15.13.1//NONSGML v1.0//EN
CALSCALE:GREGORIAN
METHOD:PUBLISH
X-WR-CALNAME:Aldeia Xamânica Florescer
X-ORIGINAL-URL:https://xamanismoflorescer.com.br
X-WR-CALDESC:Eventos para Aldeia Xamânica Florescer
REFRESH-INTERVAL;VALUE=DURATION:PT1H
X-Robots-Tag:noindex
X-PUBLISHED-TTL:PT1H
BEGIN:VTIMEZONE
TZID:America/Sao_Paulo
BEGIN:STANDARD
TZOFFSETFROM:-0300
TZOFFSETTO:-0300
TZNAME:-03
DTSTART:20250101T000000
END:STANDARD
END:VTIMEZONE
BEGIN:VEVENT
DTSTART;VALUE=DATE:20260620
DTEND;VALUE=DATE:20261124
DTSTAMP:20260423T203324
CREATED:20221014T182833Z
LAST-MODIFIED:20260320T151725Z
UID:30407-1781931600-1795409999@xamanismoflorescer.com.br
SUMMARY:Círculo de Guardiões das Sagradas Medicinas da Floresta
DESCRIPTION:Para maiores informações ou para confirmar sua participação\, entre em contato para agendamento de entrevista inicial. Você pode falar conosco através do WhatsApp (19) 98300-1891. \nObter mais informações pelo WhatsApp \nAldeia Xamânica Florescer convida a todos para fazer parte do Círculo de Guardiões das Medicinas da Floresta. Este será um curso com o objetivo de aprimorar os conhecimentos dentro da cultura e das práticas Xamânicas\, que estão presentes na sociedade humana desde os primórdios. \nEste Círculo é voltado para a formação de pessoas que possuem interesse em realizar trabalhos com as Medicinas da Floresta e Plantas de Poder (Ayahuasca\, rapé\, sananga e tabaco) com responsabilidade e firmeza\, terapeutas holísticos que já realizam práticas individuais ou em grupo\, e também para aqueles que possuem o desejo em aprender mais sobre as técnicas xamânicas como forma de autoconhecimento e descoberta. \nPara se tornar um Guardião das Medicinas da Floresta\, o primeiro e mais importante passo é entender a complexidade de se tornar um verdadeiro Guardião: é selar um compromisso com a Espiritualidade\, com seus mentores e com todos os seres físicos e espirituais\, de zelar\, cuidar e guardar com muita responsabilidade e empenho de todas as Medicinas Ancestrais\, sejam elas Plantas de Poder (o curso será focado nas medicinas da Ayahuasca\, Rapé\, Sananga\, Tabaco)\, Instrumentos de Poder\, conhecimentos\, rezos e práticas\, sempre com o compromisso de fazer o bem e trazer o despertar da consciência para si e para as pessoas ao redor. \nO CURSO \nEste curso será dividido em 6 encontros\, sendo os 5 primeiros com imersões\, jornadas\, práticas e aprendizados (que serão realizados em nossa Aldeia)\, e no último encontro faremos as iniciações de todos como Guardiões em uma chácara aberta e a entrega dos certificados. \nOs encontros ocorrerão uma vez a cada mês\, entre os meses de junho de junho e novembro de 2026. \nCONTEÚDO \nDentro deste curso\, abordaremos o Xamanismo de uma forma bem profunda\, podendo destacar: \nMÓDULO 1 – Xamanismo: Origens\, Pilares e Expansão no mundo. \nNeste encontro\, aprenderemos mais sobre a concepção das práticas xamânicas\, sua presença no contexto histórico\, as primeiras manifestações de expansão da consciência que se tem conhecimento\, bem como quais os princípios dentro das doutrinas Xamânicas. Aprenderemos também sobre as manifestações Xamânicas no mundo\, dentro das mais diversas culturas. Aprenderemos como essa prática se torna Universalista\, englobando várias doutrinas e religiões. \nNeste dia\, faremos uma cerimônia Xamânica com Ayahuasca no final do encontro. \nMÓDULO 2 – O Xamanismo Brasileiro \nAbordaremos as principais vertentes xamânicas brasileiras\, suas origens e como foram moldadas a partir da união entre saberes indígenas\, africanos e europeus. Exploraremos as práticas de pajelança\, rituais de cura\, limpeza espiritual e conexão com a natureza\, entendendo seus significados e aplicações. \nNeste dia\, faremos uma cerimônia com a Medicina da Jurema / Juremasca\, com roda de cachimbo. \nMÓDULO 3 – Preparação\, Gestão\, Ancoragem e Condução de Trabalhos e Rituais \nNo terceiro módulo aprenderemos as principais ferramentas para se conduzir um trabalho espiritual com amor\, dedicação e responsabilidade. Serão reforçados aqui as aptidões de um dirigente espiritual\, firmezas e proteções do local\, montagem do altar\, cuidados com participantes antes\, durante e após os trabalhos. Também abordaremos de forma geral quais os procedimentos legais para se trabalhar com as Medicinas da Floresta. \nNeste dia\, faremos uma cerimônia com a Medicina da Cacau. \nMÓDULO 4 – As Plantas e Instrumentos de Poder \nNo quarto módulo\, aprenderemos um pouco mais sobre as Medicinas em geral: Plantas de Poder e Plantas Mestras Professoras\, instrumentos e objetos mágicos e como se dá a consagração destas Medicinas. \nNeste dia\, faremos uma roda de rapé e possivelmente haverá a aplicação da Medicina do Kambô (caso ocorra mesmo\, esta será conduzida por um Guardião que guarda esta Medicina\, portanto neste caso a troca de energia será a parte). \nMÓDULO 5 – Práticas Terapeuticas no Xamanismo e Condução de Jornadas \nNo quinto módulo\, os alunos aprenderão mais sobre como as técnicas xamânicas podem ser utilizadas para tratamentos energéticos dentro de seus trabalhos. Aqui\, também aprenderão como conduzir suas próprias jornadas e rodas de cura (com ou sem Medicinas da Floresta) dentro das atividades individuais e atividades em grupo. \nNeste dia\, faremos uma cerimônia com Ayahuasca no final do encontro. \nMÓDULO 6 – Iniciação e Formação dos Guardiões \nNeste encontro\, os participantes do Círculo serão iniciados como Guardião das Medicinas. Será o final de semana do fechamento deste ciclo\, do Renascimento para uma nova vida\, de respeito e entrega para Guardar as Sagradas Medicinas da Floresta. \nPassaremos esse final de semana em imersão\, sem contato com o mundo externo\, apenas com nossa consciência superior e com as Medicinas que nortearão nosso trabalho: Ayahuasca\, Rapé\, Sananga e Tabaco. \nAlém dos ensinamentos e aprendizados teóricos\, também teremos diversas vivências\, jornadas e técnicas que terão como objetivo ampliar nossos conhecimentos dentro deste universo. Podemos destacar: \n\nConstrução do Totem Animal – Animal de Poder\, de Sombra\, Dourado e Alado;\nJornadas Xamânicas para encontro de Mestres Xamãs;\nRodas de cura com as Medicinas da Floresta (Rapé\, Sananga e Tabaco);\n\nESTRUTURA \n\nDurante o dia: conteúdos\, vivências e jornadas;\nDurante a noite: Teremos nossas cerimônias\, momento onde todos os participantes se conectarão com a expansão de consciência através das Plantas de Poder.\nOs participantes são liberados ao término dessas vivências.\n\nDATA DOS ENCONTROS \n\nJunho / 2026 – 20 de junho (a partir das 9h);\nJulho / 2026 – 18 de julho (a partir das 9h);\nAgosto / 2026 – 15 de agosto (a partir das 9h);\nSetembro / 2026 – 12 de setembro (a partir das 9h);\nOutubro / 2026 – 10 de outubro (a partir das 9h);\nNovembro / 2026 – no fim de semana de 20 a 22 de novembro.\n\nAs datas podem ser alteradas caso necessário. \nO QUE TRAZER PARA OS MÓDULOS \n\nTravesseiros\, cobertores e itens de conforto para participar das práticas e vivências;\nSucos e frutas para partilharmos nos intervalos;\nPode trazer seu almoço (temos geladeira e microondas para armazenar / esquentar seu alimento) ou solicitar a entrega na hora do almoço (avisamos antes para você já ir se organizando no pedido).\nVestimentas adequadas para participação dos Rituais (em caso de dúvidas\, entre em contato conosco);\nA medida em que adentrarmos nas Vivências\, é interessante trazer seus itens pessoais de uso dentro dos Rituais\, tais como maracas\, tambores\, cachimbos\, tepis e kuripes (aplicadores de rapé) por exemplo;\nDemais coisas podem ser pedidas durante o curso\, mediante a necessidade.\n\nO QUE ESTÁ INCLUSO NO CURSO \n\nMaterial didático e literaturas complementares;\nGrupo de estudos no WhatsApp;\nCertificação do Círculo de Guardiões;\n\nOBSERVAÇÕES IMPORTANTES \n\nPara obter a certificação é importante participar de todos os encontros. Caso haja alguma dificuldade\, entre em contato previamente com os dirigentes para verificar qualquer possibilidade;\nÉ importante também não se limitar às aulas que serão dadas. Muitos conteúdos podem ser compactados e estarão presentes na apostila. Além disso\, vá além\, procure na internet\, leia livros\, se sinta instigado\, pois é um momento único de aprendizado e partilha com os irmãos do Círculo de Guardiões;\nEssencial respeitar a hierarquia dentro do trabalho\, sempre se atentando às regras da Aldeia\, e se reportando aos dirigentes\, caso haja alguma dúvida ou questão mais profunda;\nPara participar deste Círculo\, é necessário ter contato com Rituais ou Medicinas Xamânicas\, sobretudo com a Ayahuasca\, que é nossa Medicina maestra. Não serão permitidos participantes que nunca tiveram contato com práticas xamânicas. É importante a identificação do participante com esse Universo\, para que possa fazer jus ao compromisso que assumirá. Ou seja\, quem nunca participou de cerimônias ou encontros (sobretudo vivências com a Ayahuasca) precisará participar e se identificar com esses trabalhos\, para que a partir daí decida se vai participar do Círculo ou não.\nSiga todos os preceitos e recomendações para a preparação aos Rituais. Isto é importante para que o trabalho de todos seja fluido e harmônico.\nAo aceitar a participação do curso\, será enviado um formulário e termo de participação e responsabilidade\, para validação jurídica e legal do mesmo.\n\nINVESTIMENTO \n\nÀ vista com desconto especial: R$2.600 que precisa ser pago até o último dia de abril\, ou seja\, 30 de abril;\nÀ vista: R$3000 que precisa ser pago até o dia do primeiro módulo\, ou seja\, 20 de junho;\nParcelado: R$3600 para pagamento até a data do último encontro\, ou seja\, dia 20 de novembro;\nSugestão de parcelamento: 6 vezes de R$600 com a primeira parcela paga até o dia 20 de junho e as seguintes até a data dos próximos encontros.\nO valor também pode ser parcelado no cartão em até 12 vezes\, cabendo ao participante assumir as taxas administrativas do cartão.\n\nDirigentes do Círculo: Augusto Valente (Kayn) e Wagner Araujo (Antakarana). \nPara maiores informações ou para confirmar sua participação\, entre em contato para agendamento de entrevista inicial. Você pode falar conosco através do WhatsApp (19) 98300-1891. \nObter mais informações pelo WhatsApp \nEntre em contato conosco e solicite entrada no grupo destinado ao Curso\, que será constantemente atualizado com as informações sobre o início do Círculo. \nSerão todos bem-vindos! Ahow!
URL:https://xamanismoflorescer.com.br/eventos/circulo-guardioes/
CATEGORIES:Curso
ATTACH;FMTTYPE=image/jpeg:https://xamanismoflorescer.com.br/wp-content/uploads/2022/10/circulo-de-guardioes.jpg
END:VEVENT
END:VCALENDAR